BEGIN:VCALENDAR
VERSION:2.0
CALSCALE:GREGORIAN
PRODID:-//Diputació de Barcelona//DibaCMS//EN
BEGIN:VEVENT
UID:2829
DTSTAMP:20260423T040228
DTSTART:20180916T000000
DTEND:20180916T000000
SUMMARY:XIV CAP DE SETMANA DE LA JOVENTUT - EXHIBICIÓ D'SKATERS I SCOOTERS
LOCATION:
METHOD:PUBLISH
X-WR-CALNAME:info.pont@elpont.cat
X-WR-TIMEZONE:Europe/Madrid
DESCRIPTION:Hi haurà servei de bar i DJ.
URI:https://www.elpont.cat/actualitat/agenda/xiv-cap-de-setmana-de-la-joventut-exhibicio-dskaters-i-scooters.html
CLASS:PUBLIC
END:VEVENT
END:VCALENDAR
