BEGIN:VCALENDAR
VERSION:2.0
CALSCALE:GREGORIAN
PRODID:-//Diputació de Barcelona//DibaCMS//EN
BEGIN:VEVENT
UID:2830
DTSTAMP:20260423T024839
DTSTART:20180918T000000
DTEND:20180918T000000
SUMMARY:XXXVII HOMENATGE A LA GENT GRAN 2018 - BINGO ESPECIAL GENT GRAN
LOCATION:
METHOD:PUBLISH
X-WR-CALNAME:info.pont@elpont.cat
X-WR-TIMEZONE:Europe/Madrid
DESCRIPTION:Premis per als guanyadors
URI:https://www.elpont.cat/actualitat/agenda/xxxvii-homenatge-a-la-gent-gran-2018-bingo-especial-gent-gran.html
CLASS:PUBLIC
END:VEVENT
END:VCALENDAR
