BEGIN:VCALENDAR
VERSION:2.0
CALSCALE:GREGORIAN
PRODID:-//Diputació de Barcelona//DibaCMS//EN
BEGIN:VEVENT
UID:2831
DTSTAMP:20260422T230052
DTSTART:20180919T000000
DTEND:20180919T000000
SUMMARY:XXXVII HOMENATGE A LA GENT GRAN 2018 - PROJECCIÓ DE FOTOGRAFIES ANTIGUES DEL PONT DE VILOMARA I ROCAFORT
LOCATION:
METHOD:PUBLISH
X-WR-CALNAME:info.pont@elpont.cat
X-WR-TIMEZONE:Europe/Madrid
DESCRIPTION:Recuperem la memòria històrica del poble gaudint de les imatges del nostre passat.
URI:https://www.elpont.cat/actualitat/agenda/xxxvii-homenatge-a-la-gent-gran-2018-projeccio-de-fotografies-antigues-del-pont-de-vilomara-i-rocafort.html
CLASS:PUBLIC
END:VEVENT
END:VCALENDAR
