BEGIN:VCALENDAR
VERSION:2.0
CALSCALE:GREGORIAN
PRODID:-//Diputació de Barcelona//DibaCMS//EN
BEGIN:VEVENT
UID:2832
DTSTAMP:20260423T001916
DTSTART:20180920T000000
DTEND:20180920T000000
SUMMARY:XXXVII HOMENATGE A LA GENT GRAN 2018 - BALL PER LA GENT GRAN
LOCATION:
METHOD:PUBLISH
X-WR-CALNAME:info.pont@elpont.cat
X-WR-TIMEZONE:Europe/Madrid
DESCRIPTION:Amb Xarop de Nit
URI:https://www.elpont.cat/actualitat/agenda/xxxvii-homenatge-a-la-gent-gran-2018-ball-per-la-gent-gran.html
CLASS:PUBLIC
END:VEVENT
END:VCALENDAR
