BEGIN:VCALENDAR
VERSION:2.0
CALSCALE:GREGORIAN
PRODID:-//Diputació de Barcelona//DibaCMS//EN
BEGIN:VEVENT
UID:2833
DTSTAMP:20260422T220206
DTSTART:20180922T000000
DTEND:20181006T000000
SUMMARY:EXPOSICIÓ DE FOTOGRAFIES &quot;ROCAFORT, PRESENT I PASSAT: FAÇANES&quot;
LOCATION:
METHOD:PUBLISH
X-WR-CALNAME:info.pont@elpont.cat
X-WR-TIMEZONE:Europe/Madrid
DESCRIPTION:Mostra fotogràfica d'algunes de les façanes antigues del poble amb la intenció d'evocar un passat proper que ben pocs recorden!
 
Inauguració dissabte 22 de setembre a les 12h
URI:https://www.elpont.cat/actualitat/agenda/exposicio-de-fotografies-andquotrocafort-present-i-passat-facanesandquot.html
CLASS:PUBLIC
END:VEVENT
END:VCALENDAR
