BEGIN:VCALENDAR
VERSION:2.0
CALSCALE:GREGORIAN
PRODID:-//Diputació de Barcelona//DibaCMS//EN
BEGIN:VEVENT
UID:2834
DTSTAMP:20260422T220848
DTSTART:20180922T000000
DTEND:20180922T000000
SUMMARY:LABORATORIS DE LECTURA: EL LLOP HA TORNAT
LOCATION:
METHOD:PUBLISH
X-WR-CALNAME:info.pont@elpont.cat
X-WR-TIMEZONE:Europe/Madrid
DESCRIPTION:El llop ha tornat! Els diaris en van plens, de reportatges i especulacions sobre el retorn d'aquest personatge ferotge.
 
Tens cap idea de com ens podem protegir? Com ens podem organitzar per evitar caure a les seves trampes?
 
No volem més víctimes!
 
Activitat dirigida a famílies amb infants majors de 4 anys.
URI:https://www.elpont.cat/actualitat/agenda/laboratoris-de-lectura-el-llop-ha-tornat.html
CLASS:PUBLIC
END:VEVENT
END:VCALENDAR
