BEGIN:VCALENDAR
VERSION:2.0
CALSCALE:GREGORIAN
PRODID:-//Diputació de Barcelona//DibaCMS//EN
BEGIN:VEVENT
UID:2836
DTSTAMP:20260423T002623
DTSTART:20180923T000000
DTEND:20180923T000000
SUMMARY:XXXVII HOMENATGE A LA GENT GRAN 2018
LOCATION:
METHOD:PUBLISH
X-WR-CALNAME:info.pont@elpont.cat
X-WR-TIMEZONE:Europe/Madrid
DESCRIPTION:Espectacle “UNA TARDA FELIÇ” a càrrec de les Estrelles del Pont.
Muntatge i direcció “ELS ATREVITS”
 
Entrega d’un obsequi a tots el homenatjats.
 
Entrega d’un diploma a les persones que compleixen 85 anys durant el 2018.
Entrega d’un regal sorpresa als avis de més edat:
 

CANDELARIA LOZANO FIGUEROLA                           14/04/1918
MARIA GASCON PEDROL                                         10/03/1924
TORCUATO RABANEDA MARTINEZ                            23/06/1924
CONCHITA PUJOL ALTIMIRAS                                   20/11/1924           

URI:https://www.elpont.cat/actualitat/agenda/2836-xxxvii-homenatge-a-la-gent-gran-2018.html
CLASS:PUBLIC
END:VEVENT
END:VCALENDAR
