BEGIN:VCALENDAR
VERSION:2.0
CALSCALE:GREGORIAN
PRODID:-//Diputació de Barcelona//DibaCMS//EN
BEGIN:VEVENT
UID:2837
DTSTAMP:20260423T053724
DTSTART:20180923T000000
DTEND:20180923T000000
SUMMARY:XXXVII HOMENATGE A LA GENT GRAN 2018 - CERCAVILA DELS GEGANTS I GRALLERS
LOCATION:
METHOD:PUBLISH
X-WR-CALNAME:info.pont@elpont.cat
X-WR-TIMEZONE:Europe/Madrid
DESCRIPTION:Amb el grup d'Infància i Joventut
URI:https://www.elpont.cat/actualitat/agenda/xxxvii-homenatge-a-la-gent-gran-2018-cercavila-dels-gegants-i-grallers.html
CLASS:PUBLIC
END:VEVENT
END:VCALENDAR
