BEGIN:VCALENDAR
VERSION:2.0
CALSCALE:GREGORIAN
PRODID:-//Diputació de Barcelona//DibaCMS//EN
BEGIN:VEVENT
UID:2838
DTSTAMP:20260423T040157
DTSTART:20180923T000000
DTEND:20180923T000000
SUMMARY:XXXVII HOMENATGE A LA GENT GRAN 2018 - MISSA SOLEMNE EN ACCIÓ DE GRÀCIES
LOCATION:
METHOD:PUBLISH
X-WR-CALNAME:info.pont@elpont.cat
X-WR-TIMEZONE:Europe/Madrid
DESCRIPTION:Música a càrrec del cor parroquial "Santa Maria Magdalena".
 
Cant dels Goigs.
 
Obsequi d'un ram de flors a la gent gran.
URI:https://www.elpont.cat/actualitat/agenda/xxxvii-homenatge-a-la-gent-gran-2018-missa-solemne-en-accio-de-gracies.html
CLASS:PUBLIC
END:VEVENT
END:VCALENDAR
