BEGIN:VCALENDAR
VERSION:2.0
CALSCALE:GREGORIAN
PRODID:-//Diputació de Barcelona//DibaCMS//EN
BEGIN:VEVENT
UID:2839
DTSTAMP:20260423T040437
DTSTART:20180923T000000
DTEND:20180923T000000
SUMMARY:XXXVII HOMENATGE A LA GENT GRAN 2018 - ACTUACIÓ DE L'ESBART DANSAIRE VILOMARENC
LOCATION:
METHOD:PUBLISH
X-WR-CALNAME:info.pont@elpont.cat
X-WR-TIMEZONE:Europe/Madrid
DESCRIPTION:
URI:https://www.elpont.cat/actualitat/agenda/xxxvii-homenatge-a-la-gent-gran-2018-actuacio-de-lesbart-dansaire-vilomarenc.html
CLASS:PUBLIC
END:VEVENT
END:VCALENDAR
