BEGIN:VCALENDAR
VERSION:2.0
CALSCALE:GREGORIAN
PRODID:-//Diputació de Barcelona//DibaCMS//EN
BEGIN:VEVENT
UID:2840
DTSTAMP:20260423T025737
DTSTART:20180924T000000
DTEND:20180924T000000
SUMMARY:XXXVII HOMENATGE A LA GENT GRAN 2018 - PROGRAMA GENT GRAN ACTIVA &quot;CHI KUNG PER A LA SALUT&quot;
LOCATION:
METHOD:PUBLISH
X-WR-CALNAME:info.pont@elpont.cat
X-WR-TIMEZONE:Europe/Madrid
DESCRIPTION:Consells saludables i exercicis activadors, a càrrec de la M. Josep Jiménez Subirana
URI:https://www.elpont.cat/actualitat/agenda/xxxvii-homenatge-a-la-gent-gran-2018-programa-gent-gran-activa-andquotchi-kung-per-a-la-salutandquot.html
CLASS:PUBLIC
END:VEVENT
END:VCALENDAR
