BEGIN:VCALENDAR
VERSION:2.0
CALSCALE:GREGORIAN
PRODID:-//Diputació de Barcelona//DibaCMS//EN
BEGIN:VEVENT
UID:2842
DTSTAMP:20260423T053642
DTSTART:20180927T000000
DTEND:20180927T000000
SUMMARY:XERRADA &quot;PLANIFICA EL TEU MENÚ&quot;
LOCATION:
METHOD:PUBLISH
X-WR-CALNAME:info.pont@elpont.cat
X-WR-TIMEZONE:Europe/Madrid
DESCRIPTION:Et suposa un mal de cap pensar què fer en cada àpat?
 
Vine i descobriràs els passos necessaris per a elaborar el teu menú setmanal, fins i tot, l'esmorzar i el berenar!!
 
Xerrada a càrrec de la nutricionista Núria Gabriel Puiggròs
URI:https://www.elpont.cat/actualitat/agenda/xerrada-andquotplanifica-el-teu-menuandquot.html
CLASS:PUBLIC
END:VEVENT
END:VCALENDAR
