BEGIN:VCALENDAR
VERSION:2.0
CALSCALE:GREGORIAN
PRODID:-//Diputació de Barcelona//DibaCMS//EN
BEGIN:VEVENT
UID:2843
DTSTAMP:20260423T040422
DTSTART:20181004T000000
DTEND:20181004T000000
SUMMARY:PROGRAMA GENT GRAN ACTIVA &quot;BALL AMB OSTRES OSTRES&quot;
LOCATION:
METHOD:PUBLISH
X-WR-CALNAME:info.pont@elpont.cat
X-WR-TIMEZONE:Europe/Madrid
DESCRIPTION:
URI:https://www.elpont.cat/actualitat/agenda/2843-programa-gent-gran-activa-andquotball-amb-ostres-ostresandquot.html
CLASS:PUBLIC
END:VEVENT
END:VCALENDAR
