BEGIN:VCALENDAR
VERSION:2.0
CALSCALE:GREGORIAN
PRODID:-//Diputació de Barcelona//DibaCMS//EN
BEGIN:VEVENT
UID:2844
DTSTAMP:20260423T013240
DTSTART:20181006T000000
DTEND:20181006T000000
SUMMARY:TALLER &quot;PROGRAMACIÓ DE JOCS AMB SCRATCH&quot;
LOCATION:
METHOD:PUBLISH
X-WR-CALNAME:info.pont@elpont.cat
X-WR-TIMEZONE:Europe/Madrid
DESCRIPTION:Taller on aprendrem a crear projectes senzills de programació amb Scratch, planificar les etapes de disseny d’un videojoc i compartir els seus projectes amb la comunitat, tot de forma amena i divertida!!
 
Adreçat a nens i nenes de 8 a 14 anys.
URI:https://www.elpont.cat/actualitat/agenda/taller-andquotprogramacio-de-jocs-amb-scratchandquot.html
CLASS:PUBLIC
END:VEVENT
END:VCALENDAR
