BEGIN:VCALENDAR
VERSION:2.0
CALSCALE:GREGORIAN
PRODID:-//Diputació de Barcelona//DibaCMS//EN
BEGIN:VEVENT
UID:2845
DTSTAMP:20260423T001030
DTSTART:20181007T000000
DTEND:20181007T000000
SUMMARY:11ª CAMINADA POPULAR &quot;EL TUC&quot;
LOCATION:
METHOD:PUBLISH
X-WR-CALNAME:info.pont@elpont.cat
X-WR-TIMEZONE:Europe/Madrid
DESCRIPTION:La caminada la podeu fer amb el vostre gos o traient un del nostre refugi que us estarà molt agraït.
 
En acabar hi haurà un aperitiu amb tots els participants.
URI:https://www.elpont.cat/actualitat/agenda/11a-caminada-popular-andquotel-tucandquot.html
CLASS:PUBLIC
END:VEVENT
END:VCALENDAR
