BEGIN:VCALENDAR
VERSION:2.0
CALSCALE:GREGORIAN
PRODID:-//Diputació de Barcelona//DibaCMS//EN
BEGIN:VEVENT
UID:2846
DTSTAMP:20260423T035335
DTSTART:20181010T000000
DTEND:20181010T000000
SUMMARY:XERRADA &quot;LA SALUT MENTAL: QUÈ EN SAPS??&quot;
LOCATION:
METHOD:PUBLISH
X-WR-CALNAME:info.pont@elpont.cat
X-WR-TIMEZONE:Europe/Madrid
DESCRIPTION:És la depressió una malaltia mental??
 
Quines són les dolències mentals més comunes amb les que es troba un metge de poble?
 
Aquestes i moltes preguntes més ens les respondrà el Dr Irujo, metge de capçalera del municipi.
 
La biblioteca organitza aquesta xerrada en motiu del Dia Mundial de la Salut Mental.
URI:https://www.elpont.cat/actualitat/agenda/xerrada-andquotla-salut-mental-que-en-sapsandquot.html
CLASS:PUBLIC
END:VEVENT
END:VCALENDAR
