BEGIN:VCALENDAR
VERSION:2.0
CALSCALE:GREGORIAN
PRODID:-//Diputació de Barcelona//DibaCMS//EN
BEGIN:VEVENT
UID:2848
DTSTAMP:20260423T041755
DTSTART:20181019T000000
DTEND:20181110T000000
SUMMARY:EXPOSICIÓ DE FOTOGRAFIES &quot;EL RIU ÉS UN MIRATGE&quot;
LOCATION:
METHOD:PUBLISH
X-WR-CALNAME:info.pont@elpont.cat
X-WR-TIMEZONE:Europe/Madrid
DESCRIPTION:Recull de fotografies del projecte que els alumnes de primer de batxillerat de l'Institut Castellet han realitzat amb la col·laboració del fotògraf Joan Villaplana sobre l'entorn del riu Llobregat, els seus paisatges i la seva gent!
 
La inauguració tindrà lloc divendres 19 d'octubre a les 7 de la tarda.
 
L'exposició es podrà visitar en horari de biblioteca fins el 10 de novembre.
URI:https://www.elpont.cat/actualitat/agenda/exposicio-de-fotografies-andquotel-riu-es-un-miratgeandquot.html
CLASS:PUBLIC
END:VEVENT
END:VCALENDAR
