BEGIN:VCALENDAR
VERSION:2.0
CALSCALE:GREGORIAN
PRODID:-//Diputació de Barcelona//DibaCMS//EN
BEGIN:VEVENT
UID:2849
DTSTAMP:20260423T043649
DTSTART:20181024T000000
DTEND:20181024T000000
SUMMARY:TALLER DE CUINA &quot;MENÚ DE TARDOR&quot;
LOCATION:
METHOD:PUBLISH
X-WR-CALNAME:info.pont@elpont.cat
X-WR-TIMEZONE:Europe/Madrid
DESCRIPTION:Taller de cuina on aprendrem a elaborar les receptes d'un menú complert amb plats i ingredients de temporada
 
El taller anirà a càrrec de Carnisseria Ca la Pilar d'Avinyó!
 
URI:https://www.elpont.cat/actualitat/agenda/taller-de-cuina-andquotmenu-de-tardorandquot.html
CLASS:PUBLIC
END:VEVENT
END:VCALENDAR
