BEGIN:VCALENDAR
VERSION:2.0
CALSCALE:GREGORIAN
PRODID:-//Diputació de Barcelona//DibaCMS//EN
BEGIN:VEVENT
UID:2852
DTSTAMP:20260423T073029
DTSTART:20181029T000000
DTEND:20181029T000000
SUMMARY:PLE ORDINARI PER AL DIA 29 D'OCTUBRE DE 2018
LOCATION:
METHOD:PUBLISH
X-WR-CALNAME:info.pont@elpont.cat
X-WR-TIMEZONE:Europe/Madrid
DESCRIPTION:
URI:https://www.elpont.cat/actualitat/agenda/2852-ple-ordinari-per-al-dia-29-doctubre-de-2018.html
CLASS:PUBLIC
END:VEVENT
END:VCALENDAR
