BEGIN:VCALENDAR
VERSION:2.0
CALSCALE:GREGORIAN
PRODID:-//Diputació de Barcelona//DibaCMS//EN
BEGIN:VEVENT
UID:2855
DTSTAMP:20260423T011411
DTSTART:20190311T000000
DTEND:20190311T000000
SUMMARY:Festiu local (Festa del Contribuent)
LOCATION:
METHOD:PUBLISH
X-WR-CALNAME:info.pont@elpont.cat
X-WR-TIMEZONE:Europe/Madrid
DESCRIPTION:
URI:https://www.elpont.cat/actualitat/agenda/festiu-local-festa-del-contribuent.html
CLASS:PUBLIC
END:VEVENT
END:VCALENDAR
