BEGIN:VCALENDAR
VERSION:2.0
CALSCALE:GREGORIAN
PRODID:-//Diputació de Barcelona//DibaCMS//EN
BEGIN:VEVENT
UID:2856
DTSTAMP:20260423T020315
DTSTART:20190722T000000
DTEND:20190722T000000
SUMMARY:Festa Major 2019 - Festiu local
LOCATION:
METHOD:PUBLISH
X-WR-CALNAME:info.pont@elpont.cat
X-WR-TIMEZONE:Europe/Madrid
DESCRIPTION:
URI:https://www.elpont.cat/actualitat/agenda/festa-major-2019-festiu-local.html
CLASS:PUBLIC
END:VEVENT
END:VCALENDAR
