BEGIN:VCALENDAR
VERSION:2.0
CALSCALE:GREGORIAN
PRODID:-//Diputació de Barcelona//DibaCMS//EN
BEGIN:VEVENT
UID:2857
DTSTAMP:20260423T020121
DTSTART:20190301T000000
DTEND:20190301T133000
SUMMARY:Últim dia per presentar candidatura a nou jutge de pau suplent per renúncia de l'anterior
LOCATION:Oficines Municipals 
METHOD:PUBLISH
X-WR-CALNAME:info.pont@elpont.cat
X-WR-TIMEZONE:Europe/Madrid
DESCRIPTION:
URI:https://www.elpont.cat/actualitat/agenda/ultim-dia-per-presentar-candidatura-a-nou-jutge-de-pau-suplent-per-renuncia-de-lanterior.html
CLASS:PUBLIC
END:VEVENT
END:VCALENDAR
