BEGIN:VCALENDAR
VERSION:2.0
CALSCALE:GREGORIAN
PRODID:-//Diputació de Barcelona//DibaCMS//EN
BEGIN:VEVENT
UID:3099
DTSTAMP:20260422T223533
DTSTART:20190424T170000
DTEND:20190424T190000
SUMMARY:ACTE ANU·LAT - Eduquem en família - Les famílies i l'èxit educatiu dels seus fills i filles
LOCATION:Mestre Saura, 5-B El Pont de Vilomara i Rocafort
METHOD:PUBLISH
X-WR-CALNAME:info.pont@elpont.cat
X-WR-TIMEZONE:Europe/Madrid
DESCRIPTION:“Us hem de comunicar que l’acte previst per a aquesta tarda i per dilluns 29 d’abril a la Casa de la Cultura s’ha hagut de suspendre a causa de la manca de participants inscrits.

Disculpeu les molèsties.”

URI:https://www.elpont.cat/actualitat/agenda/acte-anulat-eduquem-en-familia-les-families-i-lexit-educatiu-dels-seus-fills-i-filles.html
CLASS:PUBLIC
END:VEVENT
END:VCALENDAR
