BEGIN:VCALENDAR
VERSION:2.0
CALSCALE:GREGORIAN
PRODID:-//Diputació de Barcelona//DibaCMS//EN
BEGIN:VEVENT
UID:3101
DTSTAMP:20260423T040330
DTSTART:20190321T190000
DTEND:20190321T190000
SUMMARY:Dia internacional de la poesia - Música i poesia
LOCATION:Sant Pere Regalat, 72, baixos 08254 El Pont de Vilomara i Rocafort
METHOD:PUBLISH
X-WR-CALNAME:info.pont@elpont.cat
X-WR-TIMEZONE:Europe/Madrid
DESCRIPTION:Celebrem el Dia Mundial de la Poesia amb les cançons de la Coral Clau de So i la lectura de poemes en veu alta a càrrec de diferents generacions d'homes del Pont de Vilomara i Rocafort.

URI:https://www.elpont.cat/actualitat/agenda/dia-internacional-de-la-poesia-musica-i-poesia.html
CLASS:PUBLIC
END:VEVENT
END:VCALENDAR
