BEGIN:VCALENDAR
VERSION:2.0
CALSCALE:GREGORIAN
PRODID:-//Diputació de Barcelona//DibaCMS//EN
BEGIN:VEVENT
UID:3102
DTSTAMP:20260423T040126
DTSTART:20190611T190000
DTEND:20190611T190000
SUMMARY:Presentació del mapa de patrimoni cultural del Pont de Vilomara i Rocafort
LOCATION:Sant Pere Regalat, 72, baixos 08254 El Pont de Vilomara i Rocafort
METHOD:PUBLISH
X-WR-CALNAME:info.pont@elpont.cat
X-WR-TIMEZONE:Europe/Madrid
DESCRIPTION:Presentació de l’inventari de patrimoni moble, immoble, documental, immaterial i natural del municipi.

URI:https://www.elpont.cat/actualitat/agenda/presentacio-del-mapa-de-patrimoni-cultural-del-pont-de-vilomara-i-rocafort.html
CLASS:PUBLIC
END:VEVENT
END:VCALENDAR
