BEGIN:VCALENDAR
VERSION:2.0
CALSCALE:GREGORIAN
PRODID:-//Diputació de Barcelona//DibaCMS//EN
BEGIN:VEVENT
UID:3103
DTSTAMP:20260423T010714
DTSTART:20190401T090000
DTEND:20190406T220000
SUMMARY:Setmana mundial de l'esport - portes obertes a la Sala Polivalent
LOCATION:Sant Jeroni, 12-14  08254 El Pont de Vilomara i Rocafort
METHOD:PUBLISH
X-WR-CALNAME:info.pont@elpont.cat
X-WR-TIMEZONE:Europe/Madrid
DESCRIPTION:Durant aquesta setmana podràs gaudir gratuïtament de les següents activitats:


	SALA DE MUSCULACIÓ
	PILATES
	SUMBA
	TONO PUM
	EDAT D'OR
	IOGUILATES
	CICLO INDOOR
	IOGA
	INTERVAL TRAINNING
	CORE
	SOL PÈLVIC


A més, matrícula gratuita tota la setmana. Ara és el moment FES ESPORT, FES SALUT

URI:https://www.elpont.cat/actualitat/agenda/setmana-mundial-de-lesport-portes-obertes-a-la-sala-polivalent.html
CLASS:PUBLIC
END:VEVENT
END:VCALENDAR
