BEGIN:VCALENDAR
VERSION:2.0
CALSCALE:GREGORIAN
PRODID:-//Diputació de Barcelona//DibaCMS//EN
BEGIN:VEVENT
UID:3115
DTSTAMP:20260423T010436
DTSTART:20190410T000000
DTEND:20190410T000000
SUMMARY:Nova campanya d'inscripció per la renovació del DNI
LOCATION:
METHOD:PUBLISH
X-WR-CALNAME:info.pont@elpont.cat
X-WR-TIMEZONE:Europe/Madrid
DESCRIPTION:Des de l’Ajuntament es torna a organitzar una nova jornada de renovacions del DNI al municipi.

Es faran el dimecres 10 d’Abril i s’hauran de recollir el divendres 12 d’abril, en tots dos casos durant el matí.

URI:https://www.elpont.cat/actualitat/agenda/3115-nova-campanya-dinscripcio-per-la-renovacio-del-dni.html
CLASS:PUBLIC
END:VEVENT
END:VCALENDAR
