BEGIN:VCALENDAR
VERSION:2.0
CALSCALE:GREGORIAN
PRODID:-//Diputació de Barcelona//DibaCMS//EN
BEGIN:VEVENT
UID:3151
DTSTAMP:20260422T235936
DTSTART:20190408T000000
DTEND:20190408T000000
SUMMARY:Dia internacional de les dones - Sortida del dia de la dona
LOCATION:Lloc per determinar 
METHOD:PUBLISH
X-WR-CALNAME:info.pont@elpont.cat
X-WR-TIMEZONE:Europe/Madrid
DESCRIPTION:Durant la primera quinzena d'abril està previst de realitzar l'acte de cloenda d'aquesta celebració amb la tradicional sortida de la dona.

De seguida que tinguem més informació us l'anirem comunicant.

URI:https://www.elpont.cat/actualitat/agenda/dia-internacional-de-les-dones-sortida-del-dia-de-la-dona.html
CLASS:PUBLIC
END:VEVENT
END:VCALENDAR
