BEGIN:VCALENDAR
VERSION:2.0
CALSCALE:GREGORIAN
PRODID:-//Diputació de Barcelona//DibaCMS//EN
BEGIN:VEVENT
UID:3152
DTSTAMP:20260423T023347
DTSTART:20190401T000000
DTEND:20190401T235900
SUMMARY:Termini de presentació d'originals per al XXII Premi de Poesia Josefina Oliveras
LOCATION:
METHOD:PUBLISH
X-WR-CALNAME:info.pont@elpont.cat
X-WR-TIMEZONE:Europe/Madrid
DESCRIPTION:
URI:https://www.elpont.cat/actualitat/agenda/termini-de-presentacio-doriginals-per-al-xxii-premi-de-poesia-josefina-oliveras.html
CLASS:PUBLIC
END:VEVENT
END:VCALENDAR
