BEGIN:VCALENDAR
VERSION:2.0
CALSCALE:GREGORIAN
PRODID:-//Diputació de Barcelona//DibaCMS//EN
BEGIN:VEVENT
UID:3162
DTSTAMP:20260423T000049
DTSTART:20190423T093000
DTEND:20190423T120000
SUMMARY:Setena marató de contes de Sant Jordi
LOCATION:Biblioteca: Alba, Laura, Maricel i Susana
Plaça Cooperativa: Àngel Roset 
Plaça Major: Ada Cusidó
Carrer Mestre Saura: Joan Cirera i Pep Torras

Durant tot el dia, al Passeig de la Pau, pintura mural a càrrec de la il•lustradora Susanna Ayala 
METHOD:PUBLISH
X-WR-CALNAME:info.pont@elpont.cat
X-WR-TIMEZONE:Europe/Madrid
DESCRIPTION:
URI:https://www.elpont.cat/actualitat/agenda/3162-setena-marato-de-contes-de-sant-jordi.html
CLASS:PUBLIC
END:VEVENT
END:VCALENDAR
