BEGIN:VCALENDAR
VERSION:2.0
CALSCALE:GREGORIAN
PRODID:-//Diputació de Barcelona//DibaCMS//EN
BEGIN:VEVENT
UID:3170
DTSTAMP:20260423T041023
DTSTART:20190404T090000
DTEND:20190404T090000
SUMMARY:Caminada saludable per celebrar el dia mundial de l'activitat física
LOCATION:Aparcament de Can Oristrell 
METHOD:PUBLISH
X-WR-CALNAME:info.pont@elpont.cat
X-WR-TIMEZONE:Europe/Madrid
DESCRIPTION:
URI:https://www.elpont.cat/actualitat/agenda/caminada-saludable-per-celebrar-el-dia-mundial-de-lactivitat-fisica.html
CLASS:PUBLIC
END:VEVENT
END:VCALENDAR
