BEGIN:VCALENDAR
VERSION:2.0
CALSCALE:GREGORIAN
PRODID:-//Diputació de Barcelona//DibaCMS//EN
BEGIN:VEVENT
UID:3171
DTSTAMP:20260423T015818
DTSTART:20190417T180000
DTEND:20190417T180000
SUMMARY:Programa gent gran activa "Qigong per la salut"
LOCATION:Plaça Margarida, s/n. 08254 El Pont de Vilomara i Rocafort
METHOD:PUBLISH
X-WR-CALNAME:info.pont@elpont.cat
X-WR-TIMEZONE:Europe/Madrid
DESCRIPTION:
URI:https://www.elpont.cat/actualitat/agenda/programa-gent-gran-activa-qigong-per-la-salut.html
CLASS:PUBLIC
END:VEVENT
END:VCALENDAR
