BEGIN:VCALENDAR
VERSION:2.0
CALSCALE:GREGORIAN
PRODID:-//Diputació de Barcelona//DibaCMS//EN
BEGIN:VEVENT
UID:3175
DTSTAMP:20260423T073015
DTSTART:20190408T160000
DTEND:20190427T200000
SUMMARY:Exposició "Auca dels Amics de l'Art Romànic"
LOCATION:Sant Pere Regalat, 72, baixos 08254 El Pont de Vilomara i Rocafort
METHOD:PUBLISH
X-WR-CALNAME:info.pont@elpont.cat
X-WR-TIMEZONE:Europe/Madrid
DESCRIPTION:
URI:https://www.elpont.cat/actualitat/agenda/exposicio-auca-dels-amics-de-lart-romanic.html
CLASS:PUBLIC
END:VEVENT
END:VCALENDAR
