BEGIN:VCALENDAR
VERSION:2.0
CALSCALE:GREGORIAN
PRODID:-//Diputació de Barcelona//DibaCMS//EN
BEGIN:VEVENT
UID:3176
DTSTAMP:20260423T023759
DTSTART:20190408T150000
DTEND:20190408T150000
SUMMARY:Inauguració de l'exposició "Auca dels Amics de l'Art Romànic"
LOCATION:Sant Pere Regalat, 72, baixos 08254 El Pont de Vilomara i Rocafort
METHOD:PUBLISH
X-WR-CALNAME:info.pont@elpont.cat
X-WR-TIMEZONE:Europe/Madrid
DESCRIPTION:
URI:https://www.elpont.cat/actualitat/agenda/inauguracio-de-lexposicio-auca-dels-amics-de-lart-romanic.html
CLASS:PUBLIC
END:VEVENT
END:VCALENDAR
