BEGIN:VCALENDAR
VERSION:2.0
CALSCALE:GREGORIAN
PRODID:-//Diputació de Barcelona//DibaCMS//EN
BEGIN:VEVENT
UID:3177
DTSTAMP:20260423T044148
DTSTART:20190410T150000
DTEND:20190410T150000
SUMMARY:Taller de cuina "Menú de Primavera"
LOCATION:Sant Pere Regalat, 72, baixos 08254 El Pont de Vilomara i Rocafort
METHOD:PUBLISH
X-WR-CALNAME:info.pont@elpont.cat
X-WR-TIMEZONE:Europe/Madrid
DESCRIPTION:
URI:https://www.elpont.cat/actualitat/agenda/taller-de-cuina-menu-de-primavera.html
CLASS:PUBLIC
END:VEVENT
END:VCALENDAR
