BEGIN:VCALENDAR
VERSION:2.0
CALSCALE:GREGORIAN
PRODID:-//Diputació de Barcelona//DibaCMS//EN
BEGIN:VEVENT
UID:3189
DTSTAMP:20260423T014753
DTSTART:20190427T113000
DTEND:20190427T113000
SUMMARY:Festa Major de Rocafort - "Papallones: petits poemes musicals de Joana Raspall"
LOCATION:Plaça Nova 
METHOD:PUBLISH
X-WR-CALNAME:info.pont@elpont.cat
X-WR-TIMEZONE:Europe/Madrid
DESCRIPTION:Espectacle i presentació del disc Papallones: petits poemes musicals de Joana Raspall a càrrec del músic i conta contes Carles Cuberes.

Activitat especial dins el programa de la Festa Major de Rocafort.

Hi esteu tots convidats!!

URI:https://www.elpont.cat/actualitat/agenda/festa-major-de-rocafort-papallones-petits-poemes-musicals-de-joana-raspall.html
CLASS:PUBLIC
END:VEVENT
END:VCALENDAR
