BEGIN:VCALENDAR
VERSION:2.0
CALSCALE:GREGORIAN
PRODID:-//Diputació de Barcelona//DibaCMS//EN
BEGIN:VEVENT
UID:3201
DTSTAMP:20260423T021233
DTSTART:20190420T110000
DTEND:20190420T110000
SUMMARY:Festa Major de Rocafort - Sant Jordi
LOCATION:Plaça Nova de Rocafort 
METHOD:PUBLISH
X-WR-CALNAME:info.pont@elpont.cat
X-WR-TIMEZONE:Europe/Madrid
DESCRIPTION:Venda de llibres i roses. Tot seguit taller infanrtil de punts de llibre.

URI:https://www.elpont.cat/actualitat/agenda/festa-major-de-rocafort-sant-jordi.html
CLASS:PUBLIC
END:VEVENT
END:VCALENDAR
