BEGIN:VCALENDAR
VERSION:2.0
CALSCALE:GREGORIAN
PRODID:-//Diputació de Barcelona//DibaCMS//EN
BEGIN:VEVENT
UID:3202
DTSTAMP:20260423T051558
DTSTART:20190412T000000
DTEND:20190412T000000
SUMMARY:Festa Major de Rocafort - Inauguració de l'exposició Cesc Serrat
LOCATION:Baixos de Cal Rovira 
METHOD:PUBLISH
X-WR-CALNAME:info.pont@elpont.cat
X-WR-TIMEZONE:Europe/Madrid
DESCRIPTION:Homenatge a Mark Rothko.

URI:https://www.elpont.cat/actualitat/agenda/festa-major-de-rocafort-inauguracio-de-lexposicio-cesc-serrat.html
CLASS:PUBLIC
END:VEVENT
END:VCALENDAR
