BEGIN:VCALENDAR
VERSION:2.0
CALSCALE:GREGORIAN
PRODID:-//Diputació de Barcelona//DibaCMS//EN
BEGIN:VEVENT
UID:3203
DTSTAMP:20260423T005520
DTSTART:20190420T180000
DTEND:20190420T180000
SUMMARY:Festa Major de Rocafort - Inauguració de l'exposició de Cesc Serrat
LOCATION:Baixos Cal Rovira 
METHOD:PUBLISH
X-WR-CALNAME:info.pont@elpont.cat
X-WR-TIMEZONE:Europe/Madrid
DESCRIPTION:Homenatge a Mark Rothko

URI:https://www.elpont.cat/actualitat/agenda/festa-major-de-rocafort-inauguracio-de-lexposicio-de-cesc-serrat.html
CLASS:PUBLIC
END:VEVENT
END:VCALENDAR
