BEGIN:VCALENDAR
VERSION:2.0
CALSCALE:GREGORIAN
PRODID:-//Diputació de Barcelona//DibaCMS//EN
BEGIN:VEVENT
UID:3204
DTSTAMP:20260423T015958
DTSTART:20190421T101500
DTEND:20190421T101500
SUMMARY:Festa Major de Rocafort - Caramelles
LOCATION:S'iniciaran a l'església de Rocafort 
METHOD:PUBLISH
X-WR-CALNAME:info.pont@elpont.cat
X-WR-TIMEZONE:Europe/Madrid
DESCRIPTION:
URI:https://www.elpont.cat/actualitat/agenda/festa-major-de-rocafort-caramelles.html
CLASS:PUBLIC
END:VEVENT
END:VCALENDAR
