BEGIN:VCALENDAR
VERSION:2.0
CALSCALE:GREGORIAN
PRODID:-//Diputació de Barcelona//DibaCMS//EN
BEGIN:VEVENT
UID:3205
DTSTAMP:20260422T190716
DTSTART:20190427T140000
DTEND:20190427T140000
SUMMARY:Festa Major de Rocafort - Arrossada popular
LOCATION:Plaça Gran 
METHOD:PUBLISH
X-WR-CALNAME:info.pont@elpont.cat
X-WR-TIMEZONE:Europe/Madrid
DESCRIPTION:Cal portar-se els paraments de casa.

URI:https://www.elpont.cat/actualitat/agenda/3205-festa-major-de-rocafort-arrossada-popular.html
CLASS:PUBLIC
END:VEVENT
END:VCALENDAR
