BEGIN:VCALENDAR
VERSION:2.0
CALSCALE:GREGORIAN
PRODID:-//Diputació de Barcelona//DibaCMS//EN
BEGIN:VEVENT
UID:3206
DTSTAMP:20260422T224745
DTSTART:20190427T233000
DTEND:20190427T233000
SUMMARY:Festa Major de Rocafort - Concert del Domi
LOCATION:Sala Nova 
METHOD:PUBLISH
X-WR-CALNAME:info.pont@elpont.cat
X-WR-TIMEZONE:Europe/Madrid
DESCRIPTION:Versions de butxaca. Guitarra acústica i veu.

URI:https://www.elpont.cat/actualitat/agenda/festa-major-de-rocafort-concert-del-domi.html
CLASS:PUBLIC
END:VEVENT
END:VCALENDAR
