BEGIN:VCALENDAR
VERSION:2.0
CALSCALE:GREGORIAN
PRODID:-//Diputació de Barcelona//DibaCMS//EN
BEGIN:VEVENT
UID:3207
DTSTAMP:20260423T035540
DTSTART:20190428T113000
DTEND:20190428T113000
SUMMARY:Festa Major de Rocafort - Paradetes de les artesanes del Pont de Vilomara i Rocafort
LOCATION:Plaça Gran 
METHOD:PUBLISH
X-WR-CALNAME:info.pont@elpont.cat
X-WR-TIMEZONE:Europe/Madrid
DESCRIPTION:
URI:https://www.elpont.cat/actualitat/agenda/festa-major-de-rocafort-paradetes-de-les-artesanes-del-pont-de-vilomara-i-rocafort.html
CLASS:PUBLIC
END:VEVENT
END:VCALENDAR
