BEGIN:VCALENDAR
VERSION:2.0
CALSCALE:GREGORIAN
PRODID:-//Diputació de Barcelona//DibaCMS//EN
BEGIN:VEVENT
UID:3208
DTSTAMP:20260422T185944
DTSTART:20190428T120000
DTEND:20190428T120000
SUMMARY:Festa Major de Rocafort - Xerrada "El Camí ral de Manresa a Barcelona pel coll de Daví"
LOCATION:Sala Nova 
METHOD:PUBLISH
X-WR-CALNAME:info.pont@elpont.cat
X-WR-TIMEZONE:Europe/Madrid
DESCRIPTION:A càrrec de Jordi Griera.

Organitza: Rocafort patrimoni i documentació

URI:https://www.elpont.cat/actualitat/agenda/festa-major-de-rocafort-xerrada-el-cami-ral-de-manresa-a-barcelona-pel-coll-de-davi.html
CLASS:PUBLIC
END:VEVENT
END:VCALENDAR
