BEGIN:VCALENDAR
VERSION:2.0
CALSCALE:GREGORIAN
PRODID:-//Diputació de Barcelona//DibaCMS//EN
BEGIN:VEVENT
UID:3209
DTSTAMP:20260423T005443
DTSTART:20190501T093000
DTEND:20190501T093000
SUMMARY:Festa Major de Rocafort - Missa solemne
LOCATION:
METHOD:PUBLISH
X-WR-CALNAME:info.pont@elpont.cat
X-WR-TIMEZONE:Europe/Madrid
DESCRIPTION:Tot seguit, Gegants del Pont de Vilomara i Rocafort

URI:https://www.elpont.cat/actualitat/agenda/3209-festa-major-de-rocafort-missa-solemne.html
CLASS:PUBLIC
END:VEVENT
END:VCALENDAR
