BEGIN:VCALENDAR
VERSION:2.0
CALSCALE:GREGORIAN
PRODID:-//Diputació de Barcelona//DibaCMS//EN
BEGIN:VEVENT
UID:3210
DTSTAMP:20260423T011335
DTSTART:20190501T110000
DTEND:20190501T110000
SUMMARY:Festa Major de Rocafort - Actuació del Casal Cultural de Dansaires Manresans
LOCATION:Plaça Gran 
METHOD:PUBLISH
X-WR-CALNAME:info.pont@elpont.cat
X-WR-TIMEZONE:Europe/Madrid
DESCRIPTION:especial atenció al tradicional Ballet de Déu de Rocafort

URI:https://www.elpont.cat/actualitat/agenda/festa-major-de-rocafort-actuacio-del-casal-cultural-de-dansaires-manresans.html
CLASS:PUBLIC
END:VEVENT
END:VCALENDAR
