BEGIN:VCALENDAR
VERSION:2.0
CALSCALE:GREGORIAN
PRODID:-//Diputació de Barcelona//DibaCMS//EN
BEGIN:VEVENT
UID:3211
DTSTAMP:20260422T215143
DTSTART:20190501T120000
DTEND:20190501T120000
SUMMARY:Festa Major de Rocafort - XXII Premi de poesia Sra. Josefina Oliveras
LOCATION:Sala Nova 
METHOD:PUBLISH
X-WR-CALNAME:info.pont@elpont.cat
X-WR-TIMEZONE:Europe/Madrid
DESCRIPTION:Organitza: l'Ajuntament

URI:https://www.elpont.cat/actualitat/agenda/festa-major-de-rocafort-xxii-premi-de-poesia-sra-josefina-oliveras.html
CLASS:PUBLIC
END:VEVENT
END:VCALENDAR
