BEGIN:VCALENDAR
VERSION:2.0
CALSCALE:GREGORIAN
PRODID:-//Diputació de Barcelona//DibaCMS//EN
BEGIN:VEVENT
UID:3213
DTSTAMP:20260423T051853
DTSTART:20190505T080000
DTEND:20190505T080000
SUMMARY:XV Festa Viu el Parc 2019
LOCATION:
METHOD:PUBLISH
X-WR-CALNAME:info.pont@elpont.cat
X-WR-TIMEZONE:Europe/Madrid
DESCRIPTION:
URI:https://www.elpont.cat/actualitat/agenda/3213-xv-festa-viu-el-parc-2019.html
CLASS:PUBLIC
END:VEVENT
END:VCALENDAR
