BEGIN:VCALENDAR
VERSION:2.0
CALSCALE:GREGORIAN
PRODID:-//Diputació de Barcelona//DibaCMS//EN
BEGIN:VEVENT
UID:3214
DTSTAMP:20260423T022916
DTSTART:20190601T170000
DTEND:20190601T170000
SUMMARY:XXIX Trobada de Gegants del Pont de Vilomara i Rocafort
LOCATION:
METHOD:PUBLISH
X-WR-CALNAME:info.pont@elpont.cat
X-WR-TIMEZONE:Europe/Madrid
DESCRIPTION:
URI:https://www.elpont.cat/actualitat/agenda/xxix-trobada-de-gegants-del-pont-de-vilomara-i-rocafort.html
CLASS:PUBLIC
END:VEVENT
END:VCALENDAR
