BEGIN:VCALENDAR
VERSION:2.0
CALSCALE:GREGORIAN
PRODID:-//Diputació de Barcelona//DibaCMS//EN
BEGIN:VEVENT
UID:3252
DTSTAMP:20260423T060931
DTSTART:20190520T100000
DTEND:20190520T133000
SUMMARY:Oficina mòbil d'atenció al ciutadà
LOCATION:Carrer Jesús, al mercat setmanal 
METHOD:PUBLISH
X-WR-CALNAME:info.pont@elpont.cat
X-WR-TIMEZONE:Europe/Madrid
DESCRIPTION:L'Ajuntament i la Diputació de Barcelona organitzen de forma conjunta la visita d'aquesta unitat mòbil que us ajudarà en temes de consum.

URI:https://www.elpont.cat/actualitat/agenda/oficina-mobil-datencio-al-ciutada.html
CLASS:PUBLIC
END:VEVENT
END:VCALENDAR
